BEGIN:VCALENDAR
VERSION:2.0
PRODID:icalendar-ruby
CALSCALE:GREGORIAN
METHOD:PUBLISH
BEGIN:VEVENT
DTSTAMP:20260424T113056Z
UID:7-304917@firstchurchbellevue.com
DTSTART:20261101T140000Z
DTEND:20261101T151500Z
CLASS:PUBLIC
CREATED:20260423T230709
DESCRIPTION:Worship gatherings are casual\, lively\, fun\, and central to a
 ll that we do! So\, join us for worship with your whole family!\nExpect to
  be invited to sing along with music and hymns\, engage in moments of pray
 er\, interact with an engaging message and biblical teaching\, meet a few 
 people\, grow in the knowledge of Jesus\, and experience God’s presence.
  We do have an age-appropriate kids worship environment throughout the sch
 ool year. Check the kids ministry page for more details!
LAST-MODIFIED:20260423T230709
LOCATION:
SUMMARY:Worship Gathering (9:00a)
URL;VALUE=URI:https://www.firstchurchbellevue.com/events/worship-gathering-
 9-00a/2026-11-01
ATTACH;FILENAME=Worship-Gathering.png;FMTTYPE=image/png:https://dq5pwpg1q8r
 u0.cloudfront.net/2025/04/30/17/56/02/b3332af9-587f-4b27-9745-93a821dace47
 /Worship-Gathering.png
END:VEVENT
END:VCALENDAR
