BEGIN:VCALENDAR
VERSION:2.0
PRODID:icalendar-ruby
CALSCALE:GREGORIAN
METHOD:PUBLISH
BEGIN:VEVENT
DTSTAMP:20260422T121038Z
UID:53-302597@firstchurchbellevue.com
DTSTART:20260913T143000Z
DTEND:20260913T160000Z
CLASS:PUBLIC
CREATED:20260421T212638
DESCRIPTION:\n\n\nSundays 10:30a in the Wesley Room\n\n\nWe are open to joi
 n at any time! We are presently studying The Gospel of Luke\, hoping that 
 these Jesus stories better prepare us to share our own stories.\n\n
LAST-MODIFIED:20260421T212638
LOCATION:
SUMMARY:Coffee Conversations
URL;VALUE=URI:https://www.firstchurchbellevue.com/events/coffee-conversatio
 ns/2026-09-13
ATTACH;FILENAME=Coffee Conversations Website (1500 x 784).png;FMTTYPE=image
 /png:https://dq5pwpg1q8ru0.cloudfront.net/2026/01/08/15/53/36/5a553776-cbc
 d-42e2-807b-06bdfb5deeae/Coffee%20Conversations%20Website%20(1500%20x%2078
 4).png
END:VEVENT
END:VCALENDAR
